BEGIN:VCALENDAR
VERSION:2.0
PRODID:-//Perth African Nations Sports Association - ECPv6.13.2.1//NONSGML v1.0//EN
CALSCALE:GREGORIAN
METHOD:PUBLISH
X-ORIGINAL-URL:https://www.pansa.org.au
X-WR-CALDESC:Events for Perth African Nations Sports Association
REFRESH-INTERVAL;VALUE=DURATION:PT1H
X-Robots-Tag:noindex
X-PUBLISHED-TTL:PT1H
BEGIN:VTIMEZONE
TZID:UTC
BEGIN:STANDARD
TZOFFSETFROM:+0000
TZOFFSETTO:+0000
TZNAME:UTC
DTSTART:20230101T000000
END:STANDARD
END:VTIMEZONE
BEGIN:VEVENT
DTSTART;TZID=UTC:20240127T180000
DTEND;TZID=UTC:20240129T170000
DTSTAMP:20260423T155457
CREATED:20200923T033630Z
LAST-MODIFIED:20231229T094524Z
UID:3377-1706378400-1706547600@www.pansa.org.au
SUMMARY:Perth African Nations Basketball Championships
DESCRIPTION:EVENT DETAILS \nThe Perth African Nations Basketball Championships welcomes basketball players to represent their teams in a round robin style competition in various categories including youths and seniors. \nThe tournament will be 27 – 28 – 29 January 2024.   \nEach category can accommodate 10-12 teams. Teams must check in 40 minutes prior to game time. Payment is due upon registration. \nFREE ENTRY FOR GIRLS/BOYS U15`s. \n$400.00 ENTRY FEE FOR – U18`s & Open Age\, mixed male and female teams. Teams must have at least 50% multicultural players. \nPayment by cash deposit / transfer / invoice. \nWinners will receive the title of winning the PAN Basketball Championships\, $1\,000 prize money\, trophy and medals. \nREGISTER NOW TO SECURE YOUR SPOT. \nPAN Basketball Championship Survey (surveymonkey.com)
URL:https://www.pansa.org.au/event/perth-african-nations-basketball-championships/
LOCATION:Stirling Leisure Centres – Herb Graham – Mirrabooka\, 38 Ashbury Crescent\, Mirrabooka\, Western Australia\, 6061\, Australia
END:VEVENT
BEGIN:VEVENT
DTSTART;TZID=UTC:20231231T180000
DTEND;TZID=UTC:20231231T200000
DTSTAMP:20260423T155457
CREATED:20230906T095802Z
LAST-MODIFIED:20231120T054558Z
UID:7272-1704045600-1704052800@www.pansa.org.au
SUMMARY:Clubs 4 All - Unlocking Cultural Responsiveness in Sport & Rec
DESCRIPTION:Register for this event – limited places only! \nAs part of Perth African Nations Sports Association’s drive for community inclusion\, supported by Department of Local Government\, Sport and Culture Industries\, we are working with Diversity Focus to support clubs and state sporting associations to better cater for the needs of multicultural communities in Western Australia. \nEvery person who wants to participate in sport and recreation should have a welcoming\, friendly and inclusive environment they can call their own. This is one of the steps towards making the participation and volunteering space at clubs better for our community. \nNew dates will shortly be published for registrations to participate in a workshop and discover ways of engaging with our community.
URL:https://www.pansa.org.au/event/clubs-4-all-unlocking-cultural-responsiveness-in-sport-rec-oct-2023/
LOCATION:Girrawheen Hub\, Patrick Court\, Girrawheen\, Western Australia\, 6064\, Australia
END:VEVENT
BEGIN:VEVENT
DTSTART;TZID=UTC:20231217T133000
DTEND;TZID=UTC:20231217T203000
DTSTAMP:20260423T155457
CREATED:20230908T044546Z
LAST-MODIFIED:20230908T064501Z
UID:7279-1702819800-1702845000@www.pansa.org.au
SUMMARY:Perth African Nations Sports Association Annual Awards Event
DESCRIPTION:17 December 2023. Save the date early in your calendar because\, the 2023 PANSA Annual Awards Event will be an extravaganza\, featuring: \n\nPAN Cup All-Stars v 2023 Champions in an exciting exhibition game\n2023 PAN Basketball Championships Awards\n2023 PAN Cup Awards\nFamily sport session\nCommunity Information Session\n\nMore information soon\, venue TBA.
URL:https://www.pansa.org.au/event/perth-african-nations-sports-association-annual-awards-event/
END:VEVENT
BEGIN:VEVENT
DTSTART;TZID=UTC:20231103T180000
DTEND;TZID=UTC:20231210T210000
DTSTAMP:20260423T155457
CREATED:20200923T032916Z
LAST-MODIFIED:20230908T064433Z
UID:3373-1699034400-1702242000@www.pansa.org.au
SUMMARY:Perth African Nations Cup 2023
DESCRIPTION:
URL:https://www.pansa.org.au/event/perth-african-nations-cup/
LOCATION:Kingsway Reserve\, Goal Way\, Madeley\, Western Australia\, 6065\, Australia
ATTACH;FMTTYPE=image/jpeg:https://www.pansa.org.au/wp-content/uploads/2020/09/IMG_5563-b-2.jpg
END:VEVENT
BEGIN:VEVENT
DTSTART;TZID=UTC:20231020T183000
DTEND;TZID=UTC:20231020T200000
DTSTAMP:20260423T155457
CREATED:20230908T045053Z
LAST-MODIFIED:20230908T045053Z
UID:7282-1697826600-1697832000@www.pansa.org.au
SUMMARY:PANSA AGM & PAN Cup Competition Draw
DESCRIPTION:
URL:https://www.pansa.org.au/event/pansa-agm-pan-cup-competition-draw/
LOCATION:Girrawheen Hub\, Patrick Court\, Girrawheen\, Western Australia\, 6064\, Australia
END:VEVENT
BEGIN:VEVENT
DTSTART;TZID=UTC:20230923T100000
DTEND;TZID=UTC:20230924T190000
DTSTAMP:20260423T155457
CREATED:20230920T072641Z
LAST-MODIFIED:20230920T072734Z
UID:7299-1695463200-1695582000@www.pansa.org.au
SUMMARY:Australian Congolese Tournament 2023
DESCRIPTION:Perth African Nations Sports Association is working with the Congolese Community in hosting the Australian Congolese Tournament.
URL:https://www.pansa.org.au/event/australian-congolese-tournament/
LOCATION:Beale Park Spearwood & Frank Drago Reserve\, Bayswater
END:VEVENT
BEGIN:VEVENT
DTSTART;TZID=UTC:20230723T150000
DTEND;TZID=UTC:20230723T170000
DTSTAMP:20260423T155457
CREATED:20230706T031231Z
LAST-MODIFIED:20230706T031322Z
UID:7201-1690124400-1690131600@www.pansa.org.au
SUMMARY:OUR CROWD ON SHOW
DESCRIPTION:We are calling on all of the African sport and community football fans – put Sunday 23 July on your calendar!!! \nBring your family and friends to watch Jaguar FC versus Peel United kicking off 3pm at the reserve at Herb Graham Recreation Centre\, Ashbury Crescent\, Mirrabooka\, and then see a fun international documentary on the community and football at a later date which will feature some of our African-Australian sports people and the crowd from this match. We encourage you to bring musical instruments and dress to showcase African pride. \nNo RSVPs or tickets apply for the match\, however as per competition rules ground marshalls will be active ensuring the crowd is family friendly and that crowd behaviour showcases our community. \nWe look forward to seeing you there.
URL:https://www.pansa.org.au/event/our-crowd-on-show/
LOCATION:Stirling Leisure Centres – Herb Graham – Mirrabooka\, 38 Ashbury Crescent\, Mirrabooka\, Western Australia\, 6061\, Australia
END:VEVENT
BEGIN:VEVENT
DTSTART;VALUE=DATE:20230527
DTEND;VALUE=DATE:20230528
DTSTAMP:20260423T155457
CREATED:20201120T110200Z
LAST-MODIFIED:20230530T105811Z
UID:3931-1685145600-1685231999@www.pansa.org.au
SUMMARY:PANSA Africa Day Sport Festival
DESCRIPTION:The 2023 Africa Day Sport Festival featured a family-friendly 4-team community exhibition at Curtin University parallel to the Organisation of African Communities WA Africa Day Celebration. \nA large crowd gathered to celebrate Africa Day and see teams Liberia\, Edmund Rice Centre\, Zambia and Zimbabwe play short exhibition games to the Perth sunset and under lights. Team Liberia won their two matches and took the trophy and medals\, while all enjoyed the inter-community harmony that came from people of many different backgrounds and playing styles coming together. \nPerth African Nations Sports Association looks forward to delivering bigger and better in 2024!
URL:https://www.pansa.org.au/event/perth-african-nations-sports-festival/
END:VEVENT
END:VCALENDAR